Package: seq2pathway Version: 1.39.0 Command: /home/biocbuild/R/R/bin/R CMD build --keep-empty-dirs --no-resave-data seq2pathway StartedAt: 2025-01-29 02:17:03 -0000 (Wed, 29 Jan 2025) EndedAt: 2025-01-29 02:18:33 -0000 (Wed, 29 Jan 2025) EllapsedTime: 90.1 seconds RetCode: 0 Status: OK PackageFile: seq2pathway_1.39.0.tar.gz PackageFileSize: 1.403 MiB