Package: seq2pathway Version: 1.39.0 Command: /home/biocbuild/R/R/bin/R CMD check --install=check:seq2pathway.install-out.txt --library=/home/biocbuild/R/R/site-library --no-vignettes --timings seq2pathway_1.39.0.tar.gz StartedAt: 2025-01-28 15:12:45 -0000 (Tue, 28 Jan 2025) EndedAt: 2025-01-28 15:16:03 -0000 (Tue, 28 Jan 2025) EllapsedTime: 198.2 seconds RetCode: 1 Status: ERROR CheckDir: seq2pathway.Rcheck Warnings: NA