Package: seq2pathway Version: 1.39.0 Command: /home/biocbuild/R/R/bin/R CMD INSTALL seq2pathway StartedAt: 2025-01-29 20:16:01 -0000 (Wed, 29 Jan 2025) EndedAt: 2025-01-29 20:16:34 -0000 (Wed, 29 Jan 2025) EllapsedTime: 32.9 seconds RetCode: 0 Status: OK