Package: seq2pathway Version: 1.39.0 Command: rm -rf seq2pathway.buildbin-libdir && mkdir seq2pathway.buildbin-libdir && /Users/biocbuild/BBS/utils/build-universal.sh seq2pathway_1.39.0.tar.gz /Library/Frameworks/R.framework/Resources/bin/R seq2pathway.buildbin-libdir StartedAt: 2025-02-10 01:16:02 -0500 (Mon, 10 Feb 2025) EndedAt: 2025-02-10 01:16:35 -0500 (Mon, 10 Feb 2025) EllapsedTime: 33.4 seconds RetCode: 0 Status: OK PackageFile: seq2pathway_1.39.0.tgz PackageFileSize: 936.4 KiB