Package: seq2pathway Version: 1.39.0 Command: /home/biocbuild/bbs-3.21-bioc/R/bin/R CMD build --keep-empty-dirs --no-resave-data seq2pathway StartedAt: 2025-02-09 19:14:28 -0500 (Sun, 09 Feb 2025) EndedAt: 2025-02-09 19:15:34 -0500 (Sun, 09 Feb 2025) EllapsedTime: 66.1 seconds RetCode: 0 Status: OK PackageFile: seq2pathway_1.39.0.tar.gz PackageFileSize: 1.417 MiB