Package: seq2pathway Version: 1.39.0 Command: /home/biocbuild/bbs-3.21-bioc/R/bin/R CMD check --install=check:seq2pathway.install-out.txt --library=/home/biocbuild/bbs-3.21-bioc/R/site-library --timings seq2pathway_1.39.0.tar.gz StartedAt: 2025-02-10 02:34:26 -0500 (Mon, 10 Feb 2025) EndedAt: 2025-02-10 02:38:37 -0500 (Mon, 10 Feb 2025) EllapsedTime: 251.4 seconds RetCode: 0 Status: WARNINGS CheckDir: seq2pathway.Rcheck Warnings: 2