Package: seq2pathway Version: 1.39.0 Command: E:\biocbuild\bbs-3.21-bioc\R\bin\R.exe CMD check --no-multiarch --install=check:seq2pathway.install-out.txt --library=E:\biocbuild\bbs-3.21-bioc\R\library --no-vignettes --timings seq2pathway_1.39.0.tar.gz StartedAt: 2025-02-13 05:30:11 -0500 (Thu, 13 Feb 2025) EndedAt: 2025-02-13 05:34:32 -0500 (Thu, 13 Feb 2025) EllapsedTime: 261.7 seconds RetCode: 0 Status: WARNINGS CheckDir: seq2pathway.Rcheck Warnings: 2