Package: seq2pathway Version: 1.39.0 Command: E:\biocbuild\bbs-3.21-bioc\R\bin\R.exe CMD INSTALL seq2pathway StartedAt: 2025-02-12 15:55:50 -0500 (Wed, 12 Feb 2025) EndedAt: 2025-02-12 15:56:47 -0500 (Wed, 12 Feb 2025) EllapsedTime: 56.9 seconds RetCode: 0 Status: OK