Package: seqCAT Version: 1.29.0 Command: /Library/Frameworks/R.framework/Resources/bin/R CMD check --install=check:seqCAT.install-out.txt --library=/Library/Frameworks/R.framework/Resources/library --no-vignettes --timings seqCAT_1.29.0.tar.gz StartedAt: 2025-02-03 21:55:21 -0500 (Mon, 03 Feb 2025) EndedAt: 2025-02-03 21:57:15 -0500 (Mon, 03 Feb 2025) EllapsedTime: 113.4 seconds RetCode: 0 Status: OK CheckDir: seqCAT.Rcheck Warnings: 0