Package: seqCAT Version: 1.29.0 Command: /home/biocbuild/R/R/bin/R CMD INSTALL seqCAT StartedAt: 2025-01-29 20:29:25 -0000 (Wed, 29 Jan 2025) EndedAt: 2025-01-29 20:30:19 -0000 (Wed, 29 Jan 2025) EllapsedTime: 53.1 seconds RetCode: 0 Status: OK