Package: seqCAT Version: 1.29.0 Command: /Library/Frameworks/R.framework/Resources/bin/R CMD build --keep-empty-dirs --no-resave-data seqCAT StartedAt: 2025-02-09 18:26:05 -0500 (Sun, 09 Feb 2025) EndedAt: 2025-02-09 18:27:48 -0500 (Sun, 09 Feb 2025) EllapsedTime: 102.8 seconds RetCode: 0 Status: OK PackageFile: seqCAT_1.29.0.tar.gz PackageFileSize: 1.895 MiB