Package: seqCAT Version: 1.29.0 Command: /Library/Frameworks/R.framework/Resources/bin/R CMD INSTALL seqCAT StartedAt: 2025-02-03 15:44:50 -0500 (Mon, 03 Feb 2025) EndedAt: 2025-02-03 15:45:39 -0500 (Mon, 03 Feb 2025) EllapsedTime: 49.4 seconds RetCode: 0 Status: OK