Package: seqCAT Version: 1.29.0 Command: rm -rf seqCAT.buildbin-libdir && mkdir seqCAT.buildbin-libdir && E:\biocbuild\bbs-3.21-bioc\R\bin\R.exe CMD INSTALL --build --library=seqCAT.buildbin-libdir seqCAT_1.29.0.tar.gz StartedAt: 2025-02-04 08:54:46 -0500 (Tue, 04 Feb 2025) EndedAt: 2025-02-04 08:55:59 -0500 (Tue, 04 Feb 2025) EllapsedTime: 72.7 seconds RetCode: 0 Status: OK PackageFile: seqCAT_1.29.0.zip PackageFileSize: 1.876 MiB