Package: seqCAT Version: 1.29.0 Command: E:\biocbuild\bbs-3.21-bioc\R\bin\R.exe CMD check --no-multiarch --install=check:seqCAT.install-out.txt --library=E:\biocbuild\bbs-3.21-bioc\R\library --no-vignettes --timings seqCAT_1.29.0.tar.gz StartedAt: 2025-02-10 05:21:50 -0500 (Mon, 10 Feb 2025) EndedAt: 2025-02-10 05:28:07 -0500 (Mon, 10 Feb 2025) EllapsedTime: 377.4 seconds RetCode: 0 Status: OK CheckDir: seqCAT.Rcheck Warnings: 0