Package: seqCAT Version: 1.29.0 Command: E:\biocbuild\bbs-3.21-bioc\R\bin\R.exe CMD INSTALL seqCAT StartedAt: 2025-02-09 16:56:26 -0500 (Sun, 09 Feb 2025) EndedAt: 2025-02-09 16:57:19 -0500 (Sun, 09 Feb 2025) EllapsedTime: 52.8 seconds RetCode: 0 Status: OK