Package: seqcombo Version: 1.29.0 Command: rm -rf seqcombo.buildbin-libdir && mkdir seqcombo.buildbin-libdir && /Users/biocbuild/BBS/utils/build-universal.sh seqcombo_1.29.0.tar.gz /Library/Frameworks/R.framework/Resources/bin/R seqcombo.buildbin-libdir StartedAt: 2025-02-04 22:32:29 -0500 (Tue, 04 Feb 2025) EndedAt: 2025-02-04 22:32:32 -0500 (Tue, 04 Feb 2025) EllapsedTime: 3.0 seconds RetCode: 0 Status: OK PackageFile: seqcombo_1.29.0.tgz PackageFileSize: 873.9 KiB