Package: seqcombo Version: 1.29.0 Command: /Library/Frameworks/R.framework/Resources/bin/R CMD check --install=check:seqcombo.install-out.txt --library=/Library/Frameworks/R.framework/Resources/library --no-vignettes --timings seqcombo_1.29.0.tar.gz StartedAt: 2025-02-09 21:19:30 -0500 (Sun, 09 Feb 2025) EndedAt: 2025-02-09 21:19:45 -0500 (Sun, 09 Feb 2025) EllapsedTime: 15.2 seconds RetCode: 0 Status: OK CheckDir: seqcombo.Rcheck Warnings: 0