Package: seqcombo Version: 1.29.0 Command: /Library/Frameworks/R.framework/Resources/bin/R CMD INSTALL seqcombo StartedAt: 2025-02-04 15:12:57 -0500 (Tue, 04 Feb 2025) EndedAt: 2025-02-04 15:12:59 -0500 (Tue, 04 Feb 2025) EllapsedTime: 2.2 seconds RetCode: 0 Status: OK