Package: seqcombo Version: 1.29.0 Command: /home/biocbuild/R/R/bin/R CMD build --keep-empty-dirs --no-resave-data seqcombo StartedAt: 2025-01-29 02:17:52 -0000 (Wed, 29 Jan 2025) EndedAt: 2025-01-29 02:18:13 -0000 (Wed, 29 Jan 2025) EllapsedTime: 21.0 seconds RetCode: 0 Status: OK PackageFile: seqcombo_1.29.0.tar.gz PackageFileSize: 685.4 KiB