Package: seqcombo Version: 1.29.0 Command: rm -rf seqcombo.buildbin-libdir && mkdir seqcombo.buildbin-libdir && /Users/biocbuild/BBS/utils/build-universal.sh seqcombo_1.29.0.tar.gz /Library/Frameworks/R.framework/Resources/bin/R seqcombo.buildbin-libdir StartedAt: 2025-02-10 01:16:07 -0500 (Mon, 10 Feb 2025) EndedAt: 2025-02-10 01:16:15 -0500 (Mon, 10 Feb 2025) EllapsedTime: 8.1 seconds RetCode: 0 Status: OK PackageFile: seqcombo_1.29.0.tgz PackageFileSize: 871.1 KiB