Package: seqcombo Version: 1.29.0 Command: /Library/Frameworks/R.framework/Resources/bin/R CMD check --install=check:seqcombo.install-out.txt --library=/Library/Frameworks/R.framework/Resources/library --no-vignettes --timings seqcombo_1.29.0.tar.gz StartedAt: 2025-02-04 23:14:43 -0500 (Tue, 04 Feb 2025) EndedAt: 2025-02-04 23:15:25 -0500 (Tue, 04 Feb 2025) EllapsedTime: 41.6 seconds RetCode: 0 Status: OK CheckDir: seqcombo.Rcheck Warnings: 0