Package: seqcombo Version: 1.29.0 Command: /home/biocbuild/bbs-3.21-bioc/R/bin/R CMD build --keep-empty-dirs --no-resave-data seqcombo StartedAt: 2025-02-09 19:14:50 -0500 (Sun, 09 Feb 2025) EndedAt: 2025-02-09 19:15:05 -0500 (Sun, 09 Feb 2025) EllapsedTime: 15.0 seconds RetCode: 0 Status: OK PackageFile: seqcombo_1.29.0.tar.gz PackageFileSize: 1018 KiB