Package: seqcombo Version: 1.29.0 Command: /home/biocbuild/bbs-3.21-bioc/R/bin/R CMD check --install=check:seqcombo.install-out.txt --library=/home/biocbuild/bbs-3.21-bioc/R/site-library --timings seqcombo_1.29.0.tar.gz StartedAt: 2025-02-10 02:35:06 -0500 (Mon, 10 Feb 2025) EndedAt: 2025-02-10 02:35:45 -0500 (Mon, 10 Feb 2025) EllapsedTime: 39.1 seconds RetCode: 0 Status: OK CheckDir: seqcombo.Rcheck Warnings: 0