Package: seqcombo Version: 1.29.0 Command: /home/biocbuild/bbs-3.21-bioc/R/bin/R CMD INSTALL seqcombo StartedAt: 2025-02-09 15:08:18 -0500 (Sun, 09 Feb 2025) EndedAt: 2025-02-09 15:08:33 -0500 (Sun, 09 Feb 2025) EllapsedTime: 15.1 seconds RetCode: 0 Status: OK