Package: seqcombo Version: 1.29.0 Command: rm -rf seqcombo.buildbin-libdir && mkdir seqcombo.buildbin-libdir && E:\biocbuild\bbs-3.21-bioc\R\bin\R.exe CMD INSTALL --build --library=seqcombo.buildbin-libdir seqcombo_1.29.0.tar.gz StartedAt: 2025-02-04 08:54:49 -0500 (Tue, 04 Feb 2025) EndedAt: 2025-02-04 08:55:00 -0500 (Tue, 04 Feb 2025) EllapsedTime: 10.8 seconds RetCode: 0 Status: OK PackageFile: seqcombo_1.29.0.zip PackageFileSize: 343.1 KiB