Package: seqcombo Version: 1.29.0 Command: chmod a+r seqcombo -R && E:\biocbuild\bbs-3.21-bioc\R\bin\R.exe CMD build --keep-empty-dirs --no-resave-data seqcombo StartedAt: 2025-02-09 21:36:58 -0500 (Sun, 09 Feb 2025) EndedAt: 2025-02-09 21:37:22 -0500 (Sun, 09 Feb 2025) EllapsedTime: 24.3 seconds RetCode: 0 Status: OK PackageFile: seqcombo_1.29.0.tar.gz PackageFileSize: 686.2 KiB