Package: seqcombo Version: 1.29.0 Command: E:\biocbuild\bbs-3.21-bioc\R\bin\R.exe CMD check --no-multiarch --install=check:seqcombo.install-out.txt --library=E:\biocbuild\bbs-3.21-bioc\R\library --no-vignettes --timings seqcombo_1.29.0.tar.gz StartedAt: 2025-02-04 05:48:10 -0500 (Tue, 04 Feb 2025) EndedAt: 2025-02-04 05:48:50 -0500 (Tue, 04 Feb 2025) EllapsedTime: 40.0 seconds RetCode: 0 Status: OK CheckDir: seqcombo.Rcheck Warnings: 0