Package: seqsetvis Version: 1.27.2 Command: rm -rf seqsetvis.buildbin-libdir && mkdir seqsetvis.buildbin-libdir && /Users/biocbuild/BBS/utils/build-universal.sh seqsetvis_1.27.2.tar.gz /Library/Frameworks/R.framework/Resources/bin/R seqsetvis.buildbin-libdir StartedAt: 2025-02-09 22:30:47 -0500 (Sun, 09 Feb 2025) EndedAt: 2025-02-09 22:31:04 -0500 (Sun, 09 Feb 2025) EllapsedTime: 16.4 seconds RetCode: 0 Status: OK PackageFile: seqsetvis_1.27.2.tgz PackageFileSize: 2.408 MiB