Package: seqsetvis Version: 1.27.2 Command: /Library/Frameworks/R.framework/Resources/bin/R CMD INSTALL seqsetvis StartedAt: 2025-02-09 15:12:33 -0500 (Sun, 09 Feb 2025) EndedAt: 2025-02-09 15:12:48 -0500 (Sun, 09 Feb 2025) EllapsedTime: 14.9 seconds RetCode: 0 Status: OK