Package: seqsetvis Version: 1.27.2 Command: /home/biocbuild/bbs-3.21-bioc/R/bin/R CMD check --install=check:seqsetvis.install-out.txt --library=/home/biocbuild/bbs-3.21-bioc/R/site-library --timings seqsetvis_1.27.2.tar.gz StartedAt: 2025-02-10 02:35:23 -0500 (Mon, 10 Feb 2025) EndedAt: 2025-02-10 02:45:36 -0500 (Mon, 10 Feb 2025) EllapsedTime: 612.9 seconds RetCode: 0 Status: OK CheckDir: seqsetvis.Rcheck Warnings: 0