Package: seqsetvis Version: 1.27.2 Command: rm -rf seqsetvis.buildbin-libdir && mkdir seqsetvis.buildbin-libdir && E:\biocbuild\bbs-3.21-bioc\R\bin\R.exe CMD INSTALL --build --library=seqsetvis.buildbin-libdir seqsetvis_1.27.2.tar.gz StartedAt: 2025-02-10 08:42:01 -0500 (Mon, 10 Feb 2025) EndedAt: 2025-02-10 08:43:40 -0500 (Mon, 10 Feb 2025) EllapsedTime: 98.8 seconds RetCode: 0 Status: OK PackageFile: seqsetvis_1.27.2.zip PackageFileSize: 1.549 MiB