Package: seqsetvis Version: 1.27.2 Command: chmod a+r seqsetvis -R && E:\biocbuild\bbs-3.21-bioc\R\bin\R.exe CMD build --keep-empty-dirs --no-resave-data seqsetvis StartedAt: 2025-02-09 21:37:40 -0500 (Sun, 09 Feb 2025) EndedAt: 2025-02-09 21:40:00 -0500 (Sun, 09 Feb 2025) EllapsedTime: 139.4 seconds RetCode: 0 Status: OK PackageFile: seqsetvis_1.27.2.tar.gz PackageFileSize: 1.201 MiB