Package: seqsetvis Version: 1.27.2 Command: E:\biocbuild\bbs-3.21-bioc\R\bin\R.exe CMD INSTALL seqsetvis StartedAt: 2025-02-09 16:20:39 -0500 (Sun, 09 Feb 2025) EndedAt: 2025-02-09 16:22:00 -0500 (Sun, 09 Feb 2025) EllapsedTime: 80.5 seconds RetCode: 0 Status: OK