Package: sesame Version: 1.25.3 Command: rm -rf sesame.buildbin-libdir && mkdir sesame.buildbin-libdir && /Users/biocbuild/BBS/utils/build-universal.sh sesame_1.25.3.tar.gz /Library/Frameworks/R.framework/Resources/bin/R sesame.buildbin-libdir StartedAt: 2025-02-04 22:32:37 -0500 (Tue, 04 Feb 2025) EndedAt: 2025-02-04 22:32:54 -0500 (Tue, 04 Feb 2025) EllapsedTime: 17.4 seconds RetCode: 0 Status: OK PackageFile: sesame_1.25.3.tgz PackageFileSize: 16.7 MiB