Package: sesame Version: 1.25.3 Command: /Library/Frameworks/R.framework/Resources/bin/R CMD build --keep-empty-dirs --no-resave-data sesame StartedAt: 2025-02-04 17:36:38 -0500 (Tue, 04 Feb 2025) EndedAt: 2025-02-04 17:38:48 -0500 (Tue, 04 Feb 2025) EllapsedTime: 129.6 seconds RetCode: 0 Status: OK PackageFile: sesame_1.25.3.tar.gz PackageFileSize: 16.11 MiB