Package: sesame Version: 1.25.3 Command: /Library/Frameworks/R.framework/Resources/bin/R CMD build --keep-empty-dirs --no-resave-data sesame StartedAt: 2025-02-04 18:18:52 -0500 (Tue, 04 Feb 2025) EndedAt: 2025-02-04 18:24:28 -0500 (Tue, 04 Feb 2025) EllapsedTime: 336.2 seconds RetCode: 0 Status: OK PackageFile: sesame_1.25.3.tar.gz PackageFileSize: 16.12 MiB