Package: sesame Version: 1.25.3 Command: /Library/Frameworks/R.framework/Resources/bin/R CMD check --install=check:sesame.install-out.txt --library=/Library/Frameworks/R.framework/Resources/library --no-vignettes --timings sesame_1.25.3.tar.gz StartedAt: 2025-02-04 23:15:50 -0500 (Tue, 04 Feb 2025) EndedAt: 2025-02-04 23:28:53 -0500 (Tue, 04 Feb 2025) EllapsedTime: 782.3 seconds RetCode: 0 Status: OK CheckDir: sesame.Rcheck Warnings: 0