Package: sesame Version: 1.25.3 Command: /Library/Frameworks/R.framework/Resources/bin/R CMD INSTALL sesame StartedAt: 2025-02-04 15:17:00 -0500 (Tue, 04 Feb 2025) EndedAt: 2025-02-04 15:17:44 -0500 (Tue, 04 Feb 2025) EllapsedTime: 44.0 seconds RetCode: 0 Status: OK