Package: sesame Version: 1.25.3 Command: /home/biocbuild/bbs-3.21-bioc/R/bin/R CMD build --keep-empty-dirs --no-resave-data sesame StartedAt: 2025-02-04 19:13:13 -0500 (Tue, 04 Feb 2025) EndedAt: 2025-02-04 19:17:38 -0500 (Tue, 04 Feb 2025) EllapsedTime: 265.4 seconds RetCode: 0 Status: OK PackageFile: sesame_1.25.3.tar.gz PackageFileSize: 16.09 MiB