Package: sevenC Version: 1.27.0 Command: /Library/Frameworks/R.framework/Resources/bin/R CMD build --keep-empty-dirs --no-resave-data sevenC StartedAt: 2025-02-12 18:19:33 -0500 (Wed, 12 Feb 2025) EndedAt: 2025-02-12 18:21:06 -0500 (Wed, 12 Feb 2025) EllapsedTime: 93.6 seconds RetCode: 0 Status: OK PackageFile: sevenC_1.27.0.tar.gz PackageFileSize: 1.932 MiB