Package: sevenC Version: 1.27.0 Command: /Library/Frameworks/R.framework/Resources/bin/R CMD INSTALL sevenC StartedAt: 2025-02-12 15:17:13 -0500 (Wed, 12 Feb 2025) EndedAt: 2025-02-12 15:17:47 -0500 (Wed, 12 Feb 2025) EllapsedTime: 33.8 seconds RetCode: 0 Status: OK