Package: sevenC Version: 1.27.0 Command: /home/biocbuild/bbs-3.21-bioc/R/bin/R CMD build --keep-empty-dirs --no-resave-data sevenC StartedAt: 2025-02-09 19:15:46 -0500 (Sun, 09 Feb 2025) EndedAt: 2025-02-09 19:17:08 -0500 (Sun, 09 Feb 2025) EllapsedTime: 82.1 seconds RetCode: 0 Status: OK PackageFile: sevenC_1.27.0.tar.gz PackageFileSize: 1.954 MiB