Package: sevenC Version: 1.27.0 Command: /home/biocbuild/bbs-3.21-bioc/R/bin/R CMD INSTALL sevenC StartedAt: 2025-02-12 15:27:11 -0500 (Wed, 12 Feb 2025) EndedAt: 2025-02-12 15:27:33 -0500 (Wed, 12 Feb 2025) EllapsedTime: 22.7 seconds RetCode: 0 Status: OK