Package: sevenbridges Version: 1.37.0 Command: /home/biocbuild/R/R/bin/R CMD INSTALL sevenbridges StartedAt: 2025-01-29 19:36:21 -0000 (Wed, 29 Jan 2025) EndedAt: 2025-01-29 19:37:05 -0000 (Wed, 29 Jan 2025) EllapsedTime: 44.1 seconds RetCode: 0 Status: OK