Package: sevenbridges Version: 1.37.0 Command: /home/biocbuild/bbs-3.21-bioc/R/bin/R CMD check --install=check:sevenbridges.install-out.txt --library=/home/biocbuild/bbs-3.21-bioc/R/site-library --timings sevenbridges_1.37.0.tar.gz StartedAt: 2025-02-10 02:36:12 -0500 (Mon, 10 Feb 2025) EndedAt: 2025-02-10 02:39:42 -0500 (Mon, 10 Feb 2025) EllapsedTime: 209.3 seconds RetCode: 0 Status: OK CheckDir: sevenbridges.Rcheck Warnings: 0