Package: sevenbridges Version: 1.37.0 Command: chmod a+r sevenbridges -R && E:\biocbuild\bbs-3.21-bioc\R\bin\R.exe CMD build --keep-empty-dirs --no-resave-data sevenbridges StartedAt: 2025-02-12 21:44:18 -0500 (Wed, 12 Feb 2025) EndedAt: 2025-02-12 21:49:59 -0500 (Wed, 12 Feb 2025) EllapsedTime: 341.3 seconds RetCode: 0 Status: OK PackageFile: sevenbridges_1.37.0.tar.gz PackageFileSize: 4.659 MiB