Package: sevenbridges Version: 1.37.0 Command: E:\biocbuild\bbs-3.21-bioc\R\bin\R.exe CMD INSTALL sevenbridges StartedAt: 2025-02-09 15:29:41 -0500 (Sun, 09 Feb 2025) EndedAt: 2025-02-09 15:33:46 -0500 (Sun, 09 Feb 2025) EllapsedTime: 244.6 seconds RetCode: 0 Status: OK