Package: shinyMethyl Version: 1.43.0 Command: /home/biocbuild/bbs-3.21-bioc/R/bin/R CMD check --install=check:shinyMethyl.install-out.txt --library=/home/biocbuild/bbs-3.21-bioc/R/site-library --timings shinyMethyl_1.43.0.tar.gz StartedAt: 2025-02-10 02:38:37 -0500 (Mon, 10 Feb 2025) EndedAt: 2025-02-10 02:44:58 -0500 (Mon, 10 Feb 2025) EllapsedTime: 380.6 seconds RetCode: 0 Status: OK CheckDir: shinyMethyl.Rcheck Warnings: 0