Package: shinyMethyl Version: 1.43.0 Command: chmod a+r shinyMethyl -R && E:\biocbuild\bbs-3.21-bioc\R\bin\R.exe CMD build --keep-empty-dirs --no-resave-data shinyMethyl StartedAt: 2025-02-09 21:39:36 -0500 (Sun, 09 Feb 2025) EndedAt: 2025-02-09 21:41:07 -0500 (Sun, 09 Feb 2025) EllapsedTime: 90.4 seconds RetCode: 0 Status: OK PackageFile: shinyMethyl_1.43.0.tar.gz PackageFileSize: 7.24 MiB