Package: shinyepico Version: 1.15.0 Command: /Library/Frameworks/R.framework/Resources/bin/R CMD check --install=check:shinyepico.install-out.txt --library=/Library/Frameworks/R.framework/Resources/library --no-vignettes --timings shinyepico_1.15.0.tar.gz StartedAt: 2025-02-09 21:21:14 -0500 (Sun, 09 Feb 2025) EndedAt: 2025-02-09 21:22:26 -0500 (Sun, 09 Feb 2025) EllapsedTime: 71.9 seconds RetCode: 0 Status: OK CheckDir: shinyepico.Rcheck Warnings: 0